BEGIN:VCALENDAR
VERSION:2.0
PRODID:-//Eissportclub Dresden e.V. - ECPv5.14.2.1//NONSGML v1.0//EN
CALSCALE:GREGORIAN
METHOD:PUBLISH
X-WR-CALNAME:Eissportclub Dresden e.V.
X-ORIGINAL-URL:https://eissportclub-dresden.de
X-WR-CALDESC:Veranstaltungen für Eissportclub Dresden e.V.
BEGIN:VTIMEZONE
TZID:Europe/Berlin
BEGIN:DAYLIGHT
TZOFFSETFROM:+0100
TZOFFSETTO:+0200
TZNAME:CEST
DTSTART:20200329T010000
END:DAYLIGHT
BEGIN:STANDARD
TZOFFSETFROM:+0200
TZOFFSETTO:+0100
TZNAME:CET
DTSTART:20201025T010000
END:STANDARD
END:VTIMEZONE
BEGIN:VEVENT
DTSTART;TZID=Europe/Berlin:20200208T183000
DTEND;TZID=Europe/Berlin:20200208T213000
DTSTAMP:20260421T221828
CREATED:20190902T140038Z
LAST-MODIFIED:20190902T140038Z
UID:2862-1581186600-1581197400@eissportclub-dresden.de
SUMMARY:A: RLO gg. Niesky
DESCRIPTION:
URL:https://eissportclub-dresden.de/event/a-rlo-gg-niesky-2/
LOCATION:Niesky\, Niesky
CATEGORIES:Spieltermine
END:VEVENT
END:VCALENDAR