BEGIN:VCALENDAR
VERSION:2.0
PRODID:-//Eissportclub Dresden e.V. - ECPv5.14.2.1//NONSGML v1.0//EN
CALSCALE:GREGORIAN
METHOD:PUBLISH
X-WR-CALNAME:Eissportclub Dresden e.V.
X-ORIGINAL-URL:https://eissportclub-dresden.de
X-WR-CALDESC:Veranstaltungen für Eissportclub Dresden e.V.
BEGIN:VTIMEZONE
TZID:Europe/Berlin
BEGIN:DAYLIGHT
TZOFFSETFROM:+0100
TZOFFSETTO:+0200
TZNAME:CEST
DTSTART:20240331T010000
END:DAYLIGHT
BEGIN:STANDARD
TZOFFSETFROM:+0200
TZOFFSETTO:+0100
TZNAME:CET
DTSTART:20241027T010000
END:STANDARD
END:VTIMEZONE
BEGIN:VEVENT
DTSTART;TZID=Europe/Berlin:20240323T131500
DTEND;TZID=Europe/Berlin:20240323T161500
DTSTAMP:20260424T134216
CREATED:20230922T173156Z
LAST-MODIFIED:20230922T173408Z
UID:9326-1711199700-1711210500@eissportclub-dresden.de
SUMMARY:(A) U11 LK 1: ODM
DESCRIPTION:
URL:https://eissportclub-dresden.de/event/a-u11-lk-1-odm-10/
LOCATION:Berlin\, Berlin
CATEGORIES:Spieltermine
END:VEVENT
END:VCALENDAR