BEGIN:VCALENDAR
VERSION:2.0
PRODID:-//Eissportclub Dresden e.V. - ECPv5.14.2.1//NONSGML v1.0//EN
CALSCALE:GREGORIAN
METHOD:PUBLISH
X-WR-CALNAME:Eissportclub Dresden e.V.
X-ORIGINAL-URL:https://eissportclub-dresden.de
X-WR-CALDESC:Veranstaltungen für Eissportclub Dresden e.V.
BEGIN:VTIMEZONE
TZID:Europe/Berlin
BEGIN:DAYLIGHT
TZOFFSETFROM:+0100
TZOFFSETTO:+0200
TZNAME:CEST
DTSTART:20240331T010000
END:DAYLIGHT
BEGIN:STANDARD
TZOFFSETFROM:+0200
TZOFFSETTO:+0100
TZNAME:CET
DTSTART:20241027T010000
END:STANDARD
END:VTIMEZONE
BEGIN:VEVENT
DTSTART;TZID=Europe/Berlin:20240113T123000
DTEND;TZID=Europe/Berlin:20240113T153000
DTSTAMP:20260424T160954
CREATED:20230922T174310Z
LAST-MODIFIED:20230922T174310Z
UID:9342-1705149000-1705159800@eissportclub-dresden.de
SUMMARY:(A) U11 LK 2: ODM
DESCRIPTION:
URL:https://eissportclub-dresden.de/event/a-u11-lk-2-odm-4/
LOCATION:Berlin\, Berlin
CATEGORIES:Spieltermine
END:VEVENT
END:VCALENDAR