BEGIN:VCALENDAR
VERSION:2.0
PRODID:-//Eissportclub Dresden e.V. - ECPv5.14.2.1//NONSGML v1.0//EN
CALSCALE:GREGORIAN
METHOD:PUBLISH
X-WR-CALNAME:Eissportclub Dresden e.V.
X-ORIGINAL-URL:https://eissportclub-dresden.de
X-WR-CALDESC:Veranstaltungen für Eissportclub Dresden e.V.
BEGIN:VTIMEZONE
TZID:Europe/Berlin
BEGIN:DAYLIGHT
TZOFFSETFROM:+0100
TZOFFSETTO:+0200
TZNAME:CEST
DTSTART:20240331T010000
END:DAYLIGHT
BEGIN:STANDARD
TZOFFSETFROM:+0200
TZOFFSETTO:+0100
TZNAME:CET
DTSTART:20241027T010000
END:STANDARD
END:VTIMEZONE
BEGIN:VEVENT
DTSTART;TZID=Europe/Berlin:20240127T130000
DTEND;TZID=Europe/Berlin:20240127T160000
DTSTAMP:20260424T160827
CREATED:20230922T192540Z
LAST-MODIFIED:20230922T192540Z
UID:9445-1706360400-1706371200@eissportclub-dresden.de
SUMMARY:(A) U13 LK 2 : Eisbären Berlin
DESCRIPTION:
URL:https://eissportclub-dresden.de/event/a-u13-lk-2-eisbaeren-berlin/
LOCATION:Berlin\, Berlin
CATEGORIES:Spieltermine
END:VEVENT
END:VCALENDAR