BEGIN:VCALENDAR
VERSION:2.0
PRODID:-//Eissportclub Dresden e.V. - ECPv5.14.2.1//NONSGML v1.0//EN
CALSCALE:GREGORIAN
METHOD:PUBLISH
X-WR-CALNAME:Eissportclub Dresden e.V.
X-ORIGINAL-URL:https://eissportclub-dresden.de
X-WR-CALDESC:Veranstaltungen für Eissportclub Dresden e.V.
BEGIN:VTIMEZONE
TZID:Europe/Berlin
BEGIN:DAYLIGHT
TZOFFSETFROM:+0100
TZOFFSETTO:+0200
TZNAME:CEST
DTSTART:20220327T010000
END:DAYLIGHT
BEGIN:STANDARD
TZOFFSETFROM:+0200
TZOFFSETTO:+0100
TZNAME:CET
DTSTART:20221030T010000
END:STANDARD
END:VTIMEZONE
BEGIN:VEVENT
DTSTART;TZID=Europe/Berlin:20220219T170000
DTEND;TZID=Europe/Berlin:20220219T200000
DTSTAMP:20260425T023529
CREATED:20210924T084345Z
LAST-MODIFIED:20210924T084345Z
UID:6537-1645290000-1645300800@eissportclub-dresden.de
SUMMARY:(A) U20 : Bad Tölz
DESCRIPTION:
URL:https://eissportclub-dresden.de/event/a-u20-bad-toelz-2/
LOCATION:Bad Tölz\, Bad Tölz\, Deutschland
CATEGORIES:Spieltermine
END:VEVENT
END:VCALENDAR