BEGIN:VCALENDAR
VERSION:2.0
PRODID:-//Eissportclub Dresden e.V. - ECPv5.14.2.1//NONSGML v1.0//EN
CALSCALE:GREGORIAN
METHOD:PUBLISH
X-WR-CALNAME:Eissportclub Dresden e.V.
X-ORIGINAL-URL:https://eissportclub-dresden.de
X-WR-CALDESC:Veranstaltungen für Eissportclub Dresden e.V.
BEGIN:VTIMEZONE
TZID:Europe/Berlin
BEGIN:DAYLIGHT
TZOFFSETFROM:+0100
TZOFFSETTO:+0200
TZNAME:CEST
DTSTART:20230326T010000
END:DAYLIGHT
BEGIN:STANDARD
TZOFFSETFROM:+0200
TZOFFSETTO:+0100
TZNAME:CET
DTSTART:20231029T010000
END:STANDARD
END:VTIMEZONE
BEGIN:VEVENT
DTSTART;VALUE=DATE:20230910
DTEND;VALUE=DATE:20230911
DTSTAMP:20260424T224650
CREATED:20230922T190919Z
LAST-MODIFIED:20230922T190927Z
UID:9425-1694304000-1694390399@eissportclub-dresden.de
SUMMARY:(A) U9 LK 1: Turnier
DESCRIPTION:
URL:https://eissportclub-dresden.de/event/a-u9-lk-1-turnier/
LOCATION:Crimmitschau\, Crimmitschau
CATEGORIES:Spieltermine
END:VEVENT
END:VCALENDAR