BEGIN:VCALENDAR
VERSION:2.0
PRODID:-//Eissportclub Dresden e.V. - ECPv5.14.2.1//NONSGML v1.0//EN
CALSCALE:GREGORIAN
METHOD:PUBLISH
X-WR-CALNAME:Eissportclub Dresden e.V.
X-ORIGINAL-URL:https://eissportclub-dresden.de
X-WR-CALDESC:Veranstaltungen für Eissportclub Dresden e.V.
BEGIN:VTIMEZONE
TZID:Europe/Berlin
BEGIN:DAYLIGHT
TZOFFSETFROM:+0100
TZOFFSETTO:+0200
TZNAME:CEST
DTSTART:20230326T010000
END:DAYLIGHT
BEGIN:STANDARD
TZOFFSETFROM:+0200
TZOFFSETTO:+0100
TZNAME:CET
DTSTART:20231029T010000
END:STANDARD
END:VTIMEZONE
BEGIN:VEVENT
DTSTART;TZID=Europe/Berlin:20231203T094500
DTEND;TZID=Europe/Berlin:20231203T124500
DTSTAMP:20260424T173742
CREATED:20230922T215009Z
LAST-MODIFIED:20230922T215009Z
UID:9662-1701596700-1701607500@eissportclub-dresden.de
SUMMARY:(H) U15 LK 2 : Erfurt
DESCRIPTION:
URL:https://eissportclub-dresden.de/event/h-u15-lk-2-erfurt/
LOCATION:JOYNEXT Arena\, Magdeburger Str. 10\, Dresden
CATEGORIES:Spieltermine
END:VEVENT
END:VCALENDAR