BEGIN:VCALENDAR
VERSION:2.0
PRODID:-//Eissportclub Dresden e.V. - ECPv5.14.2.1//NONSGML v1.0//EN
CALSCALE:GREGORIAN
METHOD:PUBLISH
X-WR-CALNAME:Eissportclub Dresden e.V.
X-ORIGINAL-URL:https://eissportclub-dresden.de
X-WR-CALDESC:Veranstaltungen für Eissportclub Dresden e.V.
BEGIN:VTIMEZONE
TZID:Europe/Berlin
BEGIN:DAYLIGHT
TZOFFSETFROM:+0100
TZOFFSETTO:+0200
TZNAME:CEST
DTSTART:20230326T010000
END:DAYLIGHT
BEGIN:STANDARD
TZOFFSETFROM:+0200
TZOFFSETTO:+0100
TZNAME:CET
DTSTART:20231029T010000
END:STANDARD
END:VTIMEZONE
BEGIN:VEVENT
DTSTART;TZID=Europe/Berlin:20231209T100000
DTEND;TZID=Europe/Berlin:20231209T130000
DTSTAMP:20260424T173641
CREATED:20230922T183426Z
LAST-MODIFIED:20230922T183434Z
UID:9370-1702116000-1702126800@eissportclub-dresden.de
SUMMARY:(A) U9 LK 1: ODM
DESCRIPTION:
URL:https://eissportclub-dresden.de/event/a-u9-lk-1-odm-5/
LOCATION:Leipzig\, Leipzig\, Deutschland
CATEGORIES:Spieltermine
END:VEVENT
BEGIN:VEVENT
DTSTART;TZID=Europe/Berlin:20231209T100000
DTEND;TZID=Europe/Berlin:20231209T130000
DTSTAMP:20260424T173641
CREATED:20230922T185017Z
LAST-MODIFIED:20230922T185017Z
UID:9399-1702116000-1702126800@eissportclub-dresden.de
SUMMARY:(A) U9 LK 2: ODM
DESCRIPTION:
URL:https://eissportclub-dresden.de/event/a-u9-lk-2-odm-6/
LOCATION:Schönheide\, Schönheide
CATEGORIES:Spieltermine
END:VEVENT
BEGIN:VEVENT
DTSTART;TZID=Europe/Berlin:20231209T134500
DTEND;TZID=Europe/Berlin:20231209T164500
DTSTAMP:20260424T173641
CREATED:20230922T192203Z
LAST-MODIFIED:20230922T192203Z
UID:9437-1702129500-1702140300@eissportclub-dresden.de
SUMMARY:(H) U13 LK 2 : Adler Berlin
DESCRIPTION:
URL:https://eissportclub-dresden.de/event/h-u13-lk-2-adler-berlin/
LOCATION:JOYNEXT Arena\, Magdeburger Str. 10\, Dresden
CATEGORIES:Spieltermine
END:VEVENT
END:VCALENDAR