BEGIN:VCALENDAR
VERSION:2.0
PRODID:-//Eissportclub Dresden e.V. - ECPv5.14.2.1//NONSGML v1.0//EN
CALSCALE:GREGORIAN
METHOD:PUBLISH
X-WR-CALNAME:Eissportclub Dresden e.V.
X-ORIGINAL-URL:https://eissportclub-dresden.de
X-WR-CALDESC:Veranstaltungen für Eissportclub Dresden e.V.
BEGIN:VTIMEZONE
TZID:Europe/Berlin
BEGIN:DAYLIGHT
TZOFFSETFROM:+0100
TZOFFSETTO:+0200
TZNAME:CEST
DTSTART:20240331T010000
END:DAYLIGHT
BEGIN:STANDARD
TZOFFSETFROM:+0200
TZOFFSETTO:+0100
TZNAME:CET
DTSTART:20241027T010000
END:STANDARD
END:VTIMEZONE
BEGIN:VEVENT
DTSTART;VALUE=DATE:20240120
DTEND;VALUE=DATE:20240122
DTSTAMP:20260424T145128
CREATED:20230922T171919Z
LAST-MODIFIED:20230922T171919Z
UID:9310-1705708800-1705881599@eissportclub-dresden.de
SUMMARY:(A) U11 LK 1: GASAG Cup
DESCRIPTION:
URL:https://eissportclub-dresden.de/event/a-u11-lk-1-gasag-cup/
LOCATION:Berlin\, Berlin
CATEGORIES:Spieltermine
END:VEVENT
BEGIN:VEVENT
DTSTART;TZID=Europe/Berlin:20240121T124500
DTEND;TZID=Europe/Berlin:20240121T154500
DTSTAMP:20260424T145128
CREATED:20230922T183611Z
LAST-MODIFIED:20230922T183611Z
UID:9374-1705841100-1705851900@eissportclub-dresden.de
SUMMARY:(H) U9 LK 1: ODM
DESCRIPTION:
URL:https://eissportclub-dresden.de/event/h-u9-lk-1-odm-3/
LOCATION:JOYNEXT Arena\, Magdeburger Str. 10\, Dresden
CATEGORIES:Spieltermine
END:VEVENT
BEGIN:VEVENT
DTSTART;TZID=Europe/Berlin:20240121T160000
DTEND;TZID=Europe/Berlin:20240121T190000
DTSTAMP:20260424T145128
CREATED:20230922T202612Z
LAST-MODIFIED:20230922T202612Z
UID:9527-1705852800-1705863600@eissportclub-dresden.de
SUMMARY:(A) RLO : Adler Berlin
DESCRIPTION:
URL:https://eissportclub-dresden.de/event/a-rlo-adler-berlin-2/
LOCATION:Berlin\, Berlin
CATEGORIES:Spieltermine
END:VEVENT
END:VCALENDAR