BEGIN:VCALENDAR
VERSION:2.0
PRODID:-//Eissportclub Dresden e.V. - ECPv5.14.2.1//NONSGML v1.0//EN
CALSCALE:GREGORIAN
METHOD:PUBLISH
X-WR-CALNAME:Eissportclub Dresden e.V.
X-ORIGINAL-URL:https://eissportclub-dresden.de
X-WR-CALDESC:Veranstaltungen für Eissportclub Dresden e.V.
BEGIN:VTIMEZONE
TZID:Europe/Berlin
BEGIN:DAYLIGHT
TZOFFSETFROM:+0100
TZOFFSETTO:+0200
TZNAME:CEST
DTSTART:20240331T010000
END:DAYLIGHT
BEGIN:STANDARD
TZOFFSETFROM:+0200
TZOFFSETTO:+0100
TZNAME:CET
DTSTART:20241027T010000
END:STANDARD
END:VTIMEZONE
BEGIN:VEVENT
DTSTART;VALUE=DATE:20240128
DTEND;VALUE=DATE:20240129
DTSTAMP:20260424T145154
CREATED:20230922T183707Z
LAST-MODIFIED:20230922T183707Z
UID:9376-1706400000-1706486399@eissportclub-dresden.de
SUMMARY:(A) U9 LK 1: Landesjugendspiele Winter
DESCRIPTION:
URL:https://eissportclub-dresden.de/event/a-u9-lk-1-landesjugendspiele-winter/
LOCATION:Chemnitz\, Chemnitz
CATEGORIES:Spieltermine
END:VEVENT
BEGIN:VEVENT
DTSTART;TZID=Europe/Berlin:20240128T130000
DTEND;TZID=Europe/Berlin:20240128T160000
DTSTAMP:20260424T145154
CREATED:20230922T202706Z
LAST-MODIFIED:20230922T202706Z
UID:9529-1706446800-1706457600@eissportclub-dresden.de
SUMMARY:(H) RLO : Weißwasser
DESCRIPTION:
URL:https://eissportclub-dresden.de/event/h-rlo-weisswasser-2/
LOCATION:JOYNEXT Arena\, Magdeburger Str. 10\, Dresden
CATEGORIES:Spieltermine
END:VEVENT
BEGIN:VEVENT
DTSTART;TZID=Europe/Berlin:20240128T134500
DTEND;TZID=Europe/Berlin:20240128T164500
DTSTAMP:20260424T145154
CREATED:20230922T174400Z
LAST-MODIFIED:20230922T174400Z
UID:9344-1706449500-1706460300@eissportclub-dresden.de
SUMMARY:(A) U11 LK 2: ODM
DESCRIPTION:
URL:https://eissportclub-dresden.de/event/a-u11-lk-2-odm-5/
LOCATION:Berlin\, Berlin
CATEGORIES:Spieltermine
END:VEVENT
END:VCALENDAR