BEGIN:VCALENDAR
VERSION:2.0
PRODID:-//Eissportclub Dresden e.V. - ECPv5.14.2.1//NONSGML v1.0//EN
CALSCALE:GREGORIAN
METHOD:PUBLISH
X-WR-CALNAME:Eissportclub Dresden e.V.
X-ORIGINAL-URL:https://eissportclub-dresden.de
X-WR-CALDESC:Veranstaltungen für Eissportclub Dresden e.V.
BEGIN:VTIMEZONE
TZID:Europe/Berlin
BEGIN:DAYLIGHT
TZOFFSETFROM:+0100
TZOFFSETTO:+0200
TZNAME:CEST
DTSTART:20240331T010000
END:DAYLIGHT
BEGIN:STANDARD
TZOFFSETFROM:+0200
TZOFFSETTO:+0100
TZNAME:CET
DTSTART:20241027T010000
END:STANDARD
END:VTIMEZONE
BEGIN:VEVENT
DTSTART;TZID=Europe/Berlin:20240204T090000
DTEND;TZID=Europe/Berlin:20240204T120000
DTSTAMP:20260424T145133
CREATED:20230922T172400Z
LAST-MODIFIED:20230922T172427Z
UID:9314-1707037200-1707048000@eissportclub-dresden.de
SUMMARY:(A) U11 LK 1: ODM
DESCRIPTION:
URL:https://eissportclub-dresden.de/event/u11-lk-1-odm-2/
LOCATION:Erfurt\, Erfurt
CATEGORIES:Spieltermine
END:VEVENT
BEGIN:VEVENT
DTSTART;TZID=Europe/Berlin:20240204T130000
DTEND;TZID=Europe/Berlin:20240204T160000
DTSTAMP:20260424T145133
CREATED:20230922T183757Z
LAST-MODIFIED:20230922T183757Z
UID:9378-1707051600-1707062400@eissportclub-dresden.de
SUMMARY:(A) U9 LK 1: ODM
DESCRIPTION:
URL:https://eissportclub-dresden.de/event/a-u9-lk-1-odm-6/
LOCATION:Berlin\, Berlin
CATEGORIES:Spieltermine
END:VEVENT
BEGIN:VEVENT
DTSTART;TZID=Europe/Berlin:20240204T130000
DTEND;TZID=Europe/Berlin:20240204T160000
DTSTAMP:20260424T145133
CREATED:20230922T202759Z
LAST-MODIFIED:20230922T202759Z
UID:9531-1707051600-1707062400@eissportclub-dresden.de
SUMMARY:(H) RLO : Adler Berlin
DESCRIPTION:
URL:https://eissportclub-dresden.de/event/h-rlo-adler-berlin/
LOCATION:JOYNEXT Arena\, Magdeburger Str. 10\, Dresden
CATEGORIES:Spieltermine
END:VEVENT
END:VCALENDAR